BEGIN:VCALENDAR
VERSION:2.0
PRODID:-//Debout La France - ECPv6.15.17//NONSGML v1.0//EN
CALSCALE:GREGORIAN
METHOD:PUBLISH
X-WR-CALNAME:Debout La France
X-ORIGINAL-URL:https://www.debout-la-france.fr
X-WR-CALDESC:Évènements pour Debout La France
REFRESH-INTERVAL;VALUE=DURATION:PT1H
X-Robots-Tag:noindex
X-PUBLISHED-TTL:PT1H
BEGIN:VTIMEZONE
TZID:Europe/Paris
BEGIN:DAYLIGHT
TZOFFSETFROM:+0100
TZOFFSETTO:+0200
TZNAME:CEST
DTSTART:20230326T010000
END:DAYLIGHT
BEGIN:STANDARD
TZOFFSETFROM:+0200
TZOFFSETTO:+0100
TZNAME:CET
DTSTART:20231029T010000
END:STANDARD
BEGIN:DAYLIGHT
TZOFFSETFROM:+0100
TZOFFSETTO:+0200
TZNAME:CEST
DTSTART:20240331T010000
END:DAYLIGHT
BEGIN:STANDARD
TZOFFSETFROM:+0200
TZOFFSETTO:+0100
TZNAME:CET
DTSTART:20241027T010000
END:STANDARD
BEGIN:DAYLIGHT
TZOFFSETFROM:+0100
TZOFFSETTO:+0200
TZNAME:CEST
DTSTART:20250330T010000
END:DAYLIGHT
BEGIN:STANDARD
TZOFFSETFROM:+0200
TZOFFSETTO:+0100
TZNAME:CET
DTSTART:20251026T010000
END:STANDARD
END:VTIMEZONE
BEGIN:VEVENT
DTSTART;VALUE=DATE:20241107
DTEND;VALUE=DATE:20241108
DTSTAMP:20260425T133731
CREATED:20241106T130027Z
LAST-MODIFIED:20241106T130027Z
UID:63810-1730937600-1731023999@www.debout-la-france.fr
SUMMARY:Nicolas DUPONT-AIGNAN sur LCI le 07/11/24
DESCRIPTION:
URL:https://www.debout-la-france.fr/evenement/nicolas-dupont-aignan-sur-lci-le-07-11-24/
CATEGORIES:Médias
ATTACH;FMTTYPE=image/jpeg:https://www.debout-la-france.fr/wp-content/uploads/2024/11/lci-linterview-politique-annonce-2024-11-06.jpg
END:VEVENT
BEGIN:VEVENT
DTSTART;VALUE=DATE:20241109
DTEND;VALUE=DATE:20241110
DTSTAMP:20260425T133731
CREATED:20241009T115921Z
LAST-MODIFIED:20241024T164651Z
UID:63702-1731110400-1731196799@www.debout-la-france.fr
SUMMARY:Journée Hommage au Général de Gaulle\, le 9/11/24
DESCRIPTION:Invitation\nChères amies\, chers compagnons\, \nComme chaque année\, Debout la France rendra hommage à la mémoire du Général de Gaulle à Colombey-les-Deux-Eglises (Haute-Marne)\, le samedi 9 novembre 2024. \nN’hésitez pas à contacter votre responsable de fédération afin de voir avec lui dans quelle mesure une solution de covoiturage pourrait être mise en place. \nUn déjeuner sur place au restaurant « Logis La grange du relais » 26 route nationale 19 – 52330 Colombey les deux Eglises sera également possible sur réservation. Il est impératif de confirmer votre présence avant le 4 novembre 2024 pour le déjeuner. Le prix du repas (entrée – plat – dessert – boissons – café) est au prix de 20 €. \nPour ceux qui ne déjeunent pas au restaurant\, nous vous donnons rendez-vous à 14h pour accompagner Nicolas Dupont-Aignan à la remise de la gerbe \nL’inscription est obligatoire et urgente le nombre de places étant limité\, inscrivez-vous en cliquant sur le lien ci-dessous : \n>>> Je m’inscris ! <<<\n  \nProgramme de la journée\n12h00 – Déjeuner au restaurant « Logis La grange du relais \n14h00 – Rendez-vous devant le restaurant \n14h30 – Dépôt de la gerbe \n15h00 – Visite libre du mémorial et de la Boisserie
URL:https://www.debout-la-france.fr/evenement/journee-hommage-au-general-de-gaulle-le-9-11-24/
CATEGORIES:Déplacement
ATTACH;FMTTYPE=image/jpeg:https://www.debout-la-france.fr/wp-content/uploads/2024/10/passage-media-tpmp-3.jpg
END:VEVENT
BEGIN:VEVENT
DTSTART;VALUE=DATE:20241113
DTEND;VALUE=DATE:20241114
DTSTAMP:20260425T133731
CREATED:20241113T090838Z
LAST-MODIFIED:20241113T090838Z
UID:63891-1731456000-1731542399@www.debout-la-france.fr
SUMMARY:Nicolas DUPONT-AIGNAN sur BFMTV le 13/11/24
DESCRIPTION:
URL:https://www.debout-la-france.fr/evenement/nicolas-dupont-aignan-sur-bfmtv-le-13-11-24/
ATTACH;FMTTYPE=image/jpeg:https://www.debout-la-france.fr/wp-content/uploads/2024/11/bfmtv-20h-brunet-annonce-2024-11-13-1.jpg
END:VEVENT
BEGIN:VEVENT
DTSTART;VALUE=DATE:20241120
DTEND;VALUE=DATE:20241121
DTSTAMP:20260425T133731
CREATED:20241114T210455Z
LAST-MODIFIED:20241114T210455Z
UID:63929-1732060800-1732147199@www.debout-la-france.fr
SUMMARY:Nicolas Dupont-Aignan au salon des Maires le 20/11/24
DESCRIPTION:Nicolas DUPONT-AIGNAN\, Président de Debout la France\, accompagné d’une délégation de maires ruraux\, sera présent ce mercredi 20 novembre à partir de 11h00 au Salon des Maires\, Porte de Versailles. \nÀ cette occasion\, il présentera ses 25 mesures pour un véritable équilibre du territoire. \nPour tous renseignements : 06 52 63 65 75
URL:https://www.debout-la-france.fr/evenement/nicolas-dupont-aignan-au-salon-des-maires-le-20-11-24/
CATEGORIES:Déplacement
ATTACH;FMTTYPE=image/jpeg:https://www.debout-la-france.fr/wp-content/uploads/2024/11/salon-des-maires-annonce-2024.jpg
END:VEVENT
BEGIN:VEVENT
DTSTART;VALUE=DATE:20241122
DTEND;VALUE=DATE:20241123
DTSTAMP:20260425T133731
CREATED:20241114T101513Z
LAST-MODIFIED:20241119T084326Z
UID:63922-1732233600-1732319999@www.debout-la-france.fr
SUMMARY:Nicolas DUPONT-AIGNAN dans l'Oise le 22/11/24
DESCRIPTION:Dans le cadre de son « Tour de France des Solutions » et de la présentation de son livre « Où va le pognon ? »\, Nicolas DUPONT-AIGNAN\, Président de Debout la France\, se rendra dans les Hauts-de-France les 22 et 23 novembre. \n  \nVENDREDI 22 NOVEMBRE \n18H30 · RENCONTRE / DÉBAT \nSalle municipale · PONTOISE-LÈS-NOYON \nSuivie d’une séance de dédicaces. \nSAMEDI 23 NOVEMBRE \n14H00 · RENCONTRE / DÉBAT \n1 GRANDE RUE · 02800 FRESSANCOURT \nSuivie d’une séance de dédicaces. \n  \nPour tous renseignements : ‭06 52 63 65 75‬
URL:https://www.debout-la-france.fr/evenement/nicolas-dupont-aignan-dans-loise-le-22-11-24/
CATEGORIES:Déplacement
ATTACH;FMTTYPE=image/jpeg:https://www.debout-la-france.fr/wp-content/uploads/2024/11/oise-2024-11-22-1.jpg
END:VEVENT
BEGIN:VEVENT
DTSTART;VALUE=DATE:20241123
DTEND;VALUE=DATE:20241124
DTSTAMP:20260425T133731
CREATED:20241114T101612Z
LAST-MODIFIED:20241119T084356Z
UID:63924-1732320000-1732406399@www.debout-la-france.fr
SUMMARY:Nicolas DUPONT-AIGNAN dans l'Aisne le 23/11/24
DESCRIPTION:Dans le cadre de son « Tour de France des Solutions » et de la présentation de son livre « Où va le pognon ? »\, Nicolas DUPONT-AIGNAN\, Président de Debout la France\, se rendra dans les Hauts-de-France les 22 et 23 novembre. \n  \nVENDREDI 22 NOVEMBRE \n18H30 · RENCONTRE / DÉBAT \nSalle municipale · PONTOISE-LÈS-NOYON \nSuivie d’une séance de dédicaces. \nSAMEDI 23 NOVEMBRE \n14H00 · RENCONTRE / DÉBAT \n1 GRANDE RUE · 02800 FRESSANCOURT \nSuivie d’une séance de dédicaces. \n  \nPour tous renseignements : ‭06 52 63 65 75‬
URL:https://www.debout-la-france.fr/evenement/nicolas-dupont-aignan-dans-laisne-le-23-11-24/
CATEGORIES:Déplacement
ATTACH;FMTTYPE=image/jpeg:https://www.debout-la-france.fr/wp-content/uploads/2024/11/aisne-2024-11-23.jpg
END:VEVENT
END:VCALENDAR